BEGIN:VCALENDAR
VERSION:2.0
PRODID:-//ChamberMaster//Event Calendar 2.0//EN
METHOD:PUBLISH
X-PUBLISHED-TTL:P3D
REFRESH-INTERVAL:P3D
CALSCALE:GREGORIAN
BEGIN:VEVENT
DTSTART:20141217T170000Z
DTEND:20141217T190000Z
X-MICROSOFT-CDO-ALLDAYEVENT:FALSE
SUMMARY:ADA Workshop
DESCRIPTION:ADA Workshop\n\n \n\nLearn how to make your business ADA compliant and reduce \n\nyour chances of being hit by a drive-by lawsuit.\n\n \n\nKEYNOTE SPEAKERS:\n\nKimberly Stone\, President\, CJAC Civil Justice Associates of California\n\nTom Scott\, Executive Director\, CALA Citizens Against Law Suit Abuse\n\n \n\nDate: Wednesday\, December 17\, 2014\n\nLocation: San Joaquin County Worknet\n\nWIB Conference Rooms 1\, 2 & 3\n\n56 South Lincoln Street\n\nStockton\, CA 95203\n\nTime: 9:00 am to 11:00 am\n\n \n\nCongressman Jeff Denham\, in partnership with Senator Cathleen Galgiani\, the San Joaquin Hispanic Chamber of Commerce\, San Joaquin County Worknet\, the Greater Stockton Chamber of Commerce\, the Lodi District Chamber of Commerce and the Civil Justice Association of California\, a nonprofit advocacy organization fighting for fairness in our civil justice system\, offer a free 90 minute workshop on how to make your business ADA compliant. In order to reduce your chances of being hit by "drive-by" lawsuits and to improve access for the disabled\, learn about the ADA\, California law\, Certified Access Specialists and steps you can take to reduce your chances of being sued.\n\n \n\nRSVP to San Joaquin Hispanic Chamber of Commerce at\n\ninfo@sjchispanicchamber.com or call (209) 943-6117
X-ALT-DESC;FMTTYPE=text/html:<span style="font-size:16px\;"><strong><span style="color:black\;"><span style="font-family:arial\,sans-serif\;">ADA Workshop</span></span></strong><br />\n&nbsp\;<br />\n<strong><em><span style="color:black\;"><span style="font-family:arial\,sans-serif\;">Learn how to make your business ADA compliant and reduce&nbsp\;</span></span></em></strong><br />\n<strong><em><span style="color:black\;"><span style="font-family:calibri\,sans-serif\;">your chances of being hit by a drive-by lawsuit.</span></span></em></strong><br />\n&nbsp\;<br />\n<strong><span style="color:black\;"><span style="font-family:calibri\,sans-serif\;">KEYNOTE SPEAKERS:</span></span></strong><br />\n<strong><em><span style="color:black\;"><span style="font-family:calibri\,sans-serif\;">Kimberly Stone\, President\, CJAC Civil Justice Associates of California</span></span></em></strong><br />\n<strong><em><span style="color:black\;"><span style="font-family:calibri\,sans-serif\;">Tom Scott\, Executive Director\, CALA Citizens Against Law Suit Abuse</span></span></em></strong><br />\n&nbsp\;<br />\n<strong><em><span style="color:black\;"><span style="font-family:calibri\,sans-serif\;">Date: Wednesday\, December 17\, 2014</span></span></em></strong><br />\n<strong><span style="color:black\;"><span style="font-family:calibri\,sans-serif\;">Location: San Joaquin County Worknet</span></span></strong><br />\n<strong><span style="color:black\;"><span style="font-family:calibri\,sans-serif\;">WIB Conference Rooms 1\, 2 &amp\; 3</span></span></strong><br />\n<strong><span style="color:black\;"><span style="font-family:calibri\,sans-serif\;">56 South Lincoln Street</span></span></strong><br />\n<strong><span style="color:black\;"><span style="font-family:calibri\,sans-serif\;">Stockton\, CA 95203</span></span></strong><br />\n<strong><em><span style="color:black\;"><span style="font-family:calibri\,sans-serif\;">Time: 9:00 am to 11:00 am</span></span></em></strong><br />\n&nbsp\;<br />\n<span style="color:black\;"><span style="font-family:calibri\,sans-serif\;">Congressman Jeff Denham\, in partnership with Senator Cathleen Galgiani\, the San Joaquin Hispanic&nbsp\;Chamber of Commerce\, San Joaquin County Worknet\, the Greater Stockton Chamber of Commerce\,&nbsp\;the Lodi District Chamber of Commerce and the Civil Justice Association of California\, a nonprofit&nbsp\;advocacy organization fighting for fairness in our civil justice system\, offer a free 90 minute workshop&nbsp\;on how to make your business ADA compliant. In order to reduce your chances of being hit by&nbsp\;&quot\;drive-by&quot\; lawsuits and to improve access for the disabled\, learn about the ADA\, California law\,&nbsp\;Certified Access Specialists and steps you can take to reduce your chances of being sued.</span></span><br />\n&nbsp\;<br />\n<span style="color:black\;"><span style="font-family:calibri\,sans-serif\;">RSVP to San Joaquin Hispanic Chamber of Commerce at</span></span><br />\n<span style="color:black\;"><span style="font-family:calibri\,sans-serif\;"><a href="mailto:info@sjchispanicchamber.com">info@sjchispanicchamber.com</a> or call (209) 943-6117</span></span></span>
LOCATION:
UID:e.1889.33
SEQUENCE:3
DTSTAMP:20260420T085217Z
URL:http://sjchispanicchamber.chambermaster.com/events/details/ada-workshop-12-17-2014-33
END:VEVENT

END:VCALENDAR
